BEGIN:VCALENDAR
VERSION:2.0
PRODID:-//Queen City Korfball - ECPv6.15.17//NONSGML v1.0//EN
CALSCALE:GREGORIAN
METHOD:PUBLISH
X-WR-CALNAME:Queen City Korfball
X-ORIGINAL-URL:https://queencitykorfball.dreamhosters.com
X-WR-CALDESC:Events for Queen City Korfball
REFRESH-INTERVAL;VALUE=DURATION:PT1H
X-Robots-Tag:noindex
X-PUBLISHED-TTL:PT1H
BEGIN:VTIMEZONE
TZID:UTC
BEGIN:STANDARD
TZOFFSETFROM:+0000
TZOFFSETTO:+0000
TZNAME:UTC
DTSTART:20250101T000000
END:STANDARD
END:VTIMEZONE
BEGIN:VEVENT
DTSTART;TZID=UTC:20260422T163000
DTEND;TZID=UTC:20260422T173000
DTSTAMP:20260424T090628
CREATED:20251006T151249Z
LAST-MODIFIED:20251006T151249Z
UID:813-1776875400-1776879000@queencitykorfball.dreamhosters.com
SUMMARY:Roberts Academy
DESCRIPTION:
URL:https://queencitykorfball.dreamhosters.com/event/roberts-academy-2/
LOCATION:OH
END:VEVENT
END:VCALENDAR